BEGIN:VCALENDAR
VERSION:2.0
PRODID:-// AgathaO Photo - ECPv6.15.15//NONSGML v1.0//EN
CALSCALE:GREGORIAN
METHOD:PUBLISH
X-ORIGINAL-URL:https://agathao.com
X-WR-CALDESC:Events for  AgathaO Photo
REFRESH-INTERVAL;VALUE=DURATION:PT1H
X-Robots-Tag:noindex
X-PUBLISHED-TTL:PT1H
BEGIN:VTIMEZONE
TZID:America/New_York
BEGIN:DAYLIGHT
TZOFFSETFROM:-0500
TZOFFSETTO:-0400
TZNAME:EDT
DTSTART:20210314T070000
END:DAYLIGHT
BEGIN:STANDARD
TZOFFSETFROM:-0400
TZOFFSETTO:-0500
TZNAME:EST
DTSTART:20211107T060000
END:STANDARD
BEGIN:DAYLIGHT
TZOFFSETFROM:-0500
TZOFFSETTO:-0400
TZNAME:EDT
DTSTART:20220313T070000
END:DAYLIGHT
BEGIN:STANDARD
TZOFFSETFROM:-0400
TZOFFSETTO:-0500
TZNAME:EST
DTSTART:20221106T060000
END:STANDARD
BEGIN:DAYLIGHT
TZOFFSETFROM:-0500
TZOFFSETTO:-0400
TZNAME:EDT
DTSTART:20230312T070000
END:DAYLIGHT
BEGIN:STANDARD
TZOFFSETFROM:-0400
TZOFFSETTO:-0500
TZNAME:EST
DTSTART:20231105T060000
END:STANDARD
END:VTIMEZONE
BEGIN:VEVENT
DTSTART;VALUE=DATE:20221008
DTEND;VALUE=DATE:20221010
DTSTAMP:20260423T185811
CREATED:20230107T223839Z
LAST-MODIFIED:20230107T224158Z
UID:5496-1665187200-1665359999@agathao.com
SUMMARY:Ashfield Fall Festival
DESCRIPTION:AgathaO will be in the Town Common tent at the Ashfield Fall Festival — with prints\, cards\, my new book Born Wet\, and more. And when you’re done shopping at my booth and checking out my new work\, there’s tons of other stuff to see and do.\nThe 2022 Ashfield Fall Festival (Ashfield\, Massachusetts) will take place on October 8-9\, from 10 a.m. to 5 p.m. on both days – rain or shine. The annual festival offers craft and art exhibits by more than 50 exhibitors\, locally-grown and prepared foods\, live music and dance\, the annual Pumpkin games and children’s activities\, and book and tag sales. Admission is free. Parking is available in lots east of the town center on Route 116 \nShare AgathaO:Tweet\n				Email a link to a friend (Opens in new window)\n				Email\n			\n				Share on WhatsApp (Opens in new window)\n				WhatsApp\n			More\n				Share on Reddit (Opens in new window)\n				Reddit\n			PocketShare on Tumblr\n				Share on Telegram (Opens in new window)\n				Telegram\n			\n				Print (Opens in new window)\n				Print\n			Like this:Like Loading...
URL:https://agathao.com/event/ashfield-fall-festival/
LOCATION:Ashfield Town Common\, Main Street\, Ashfield\, MA\, 013390\, United States
CATEGORIES:Festivals and Shows
ATTACH;FMTTYPE=image/jpeg:https://agathao.com/wp-content/uploads/2023/01/P9031775-1.jpg
END:VEVENT
BEGIN:VEVENT
DTSTART;VALUE=DATE:20221001
DTEND;VALUE=DATE:20221003
DTSTAMP:20260423T185811
CREATED:20230107T222702Z
LAST-MODIFIED:20230107T223944Z
UID:5492-1664582400-1664755199@agathao.com
SUMMARY:Hilltown Open Studio Tour
DESCRIPTION:AgathaO’s studio will be open for the Hilltown Open Studio Tour\, 11-5 on both October 1 and 2 \, along with three other Plainfield artists and twenty-two additional hilltown artists!\nMeander timeless backroads and get a glimpse into the creative process and physical work of visionary artists who live amongst mountain views\, streams and Western Mass rural autumn splendor. Find the tour at: https://www.facebook.com/events/1270685296809148/1282313415646336/ \nShare AgathaO:Tweet\n				Email a link to a friend (Opens in new window)\n				Email\n			\n				Share on WhatsApp (Opens in new window)\n				WhatsApp\n			More\n				Share on Reddit (Opens in new window)\n				Reddit\n			PocketShare on Tumblr\n				Share on Telegram (Opens in new window)\n				Telegram\n			\n				Print (Opens in new window)\n				Print\n			Like this:Like Loading...
URL:https://agathao.com/event/hilltown-open-studio-tour/
LOCATION:MA
CATEGORIES:Festivals and Shows
ATTACH;FMTTYPE=image/jpeg:https://agathao.com/wp-content/uploads/2023/01/HOST-ad-2022-scaled.jpg
END:VEVENT
BEGIN:VEVENT
DTSTART;VALUE=DATE:20220924
DTEND;VALUE=DATE:20220926
DTSTAMP:20260423T185811
CREATED:20230107T182053Z
LAST-MODIFIED:20230107T222917Z
UID:5489-1663977600-1664150399@agathao.com
SUMMARY:Fruitlands 10th Annual Craft Show
DESCRIPTION:The AgathaO Photo tent will be at the Fruitlands 10th Annual Craft Show on September 24 and 25\,\nwith prints\, cards\, books\, and more\, including my new book\, Born Wet!\nThe show’s quality of handmade craft\, museum offerings\, and stunning views has made the festival a popular September destination. It is the perfect event for a fall outing to plan your holiday gifts for family and friends.\nAdmission to the Festival includes entry to Fruitlands Museum galleries\, historic structures\, exhibits\, and trails. Transportation via golf cart is available from the parking field to the festival enclosures if needed.\nTix available online and children under 12 get in free.\nShare AgathaO:Tweet\n				Email a link to a friend (Opens in new window)\n				Email\n			\n				Share on WhatsApp (Opens in new window)\n				WhatsApp\n			More\n				Share on Reddit (Opens in new window)\n				Reddit\n			PocketShare on Tumblr\n				Share on Telegram (Opens in new window)\n				Telegram\n			\n				Print (Opens in new window)\n				Print\n			Like this:Like Loading...
URL:https://agathao.com/event/fruitlands-10th-annual-craft-show/
LOCATION:MA
CATEGORIES:Festivals and Shows
ATTACH;FMTTYPE=image/jpeg:https://agathao.com/wp-content/uploads/2023/01/IMGP4199.jpeg
END:VEVENT
BEGIN:VEVENT
DTSTART;VALUE=DATE:20220910
DTEND;VALUE=DATE:20220913
DTSTAMP:20260423T185811
CREATED:20230107T230039Z
LAST-MODIFIED:20230107T231241Z
UID:5503-1662768000-1663027199@agathao.com
SUMMARY:Bar Harbor Fine Arts Festival
DESCRIPTION:The AgathaO tent will be at this premier arts show\, held on the beautiful downtown waterfront in Bar Harbor\, on the grounds of the Bar Harbor Inn. Bringing cards\, matted and framed prints\, books\, and more. Looking forward to it! \nShare AgathaO:Tweet\n				Email a link to a friend (Opens in new window)\n				Email\n			\n				Share on WhatsApp (Opens in new window)\n				WhatsApp\n			More\n				Share on Reddit (Opens in new window)\n				Reddit\n			PocketShare on Tumblr\n				Share on Telegram (Opens in new window)\n				Telegram\n			\n				Print (Opens in new window)\n				Print\n			Like this:Like Loading...
URL:https://agathao.com/event/bar-harbor-fine-arts-festival/
LOCATION:Bar Harbor Inn\, 1 New port Drive\, Bar Harbor\, Maine\, 04609
CATEGORIES:Festivals and Shows
ATTACH;FMTTYPE=image/jpeg:https://agathao.com/wp-content/uploads/2023/01/IMG_7714-copy.jpeg
END:VEVENT
END:VCALENDAR