BEGIN:VCALENDAR
VERSION:2.0
PRODID:-// AgathaO Photo - ECPv6.15.15//NONSGML v1.0//EN
CALSCALE:GREGORIAN
METHOD:PUBLISH
X-WR-CALNAME: AgathaO Photo
X-ORIGINAL-URL:https://agathao.com
X-WR-CALDESC:Events for  AgathaO Photo
REFRESH-INTERVAL;VALUE=DURATION:PT1H
X-Robots-Tag:noindex
X-PUBLISHED-TTL:PT1H
BEGIN:VTIMEZONE
TZID:America/New_York
BEGIN:DAYLIGHT
TZOFFSETFROM:-0500
TZOFFSETTO:-0400
TZNAME:EDT
DTSTART:20210314T070000
END:DAYLIGHT
BEGIN:STANDARD
TZOFFSETFROM:-0400
TZOFFSETTO:-0500
TZNAME:EST
DTSTART:20211107T060000
END:STANDARD
BEGIN:DAYLIGHT
TZOFFSETFROM:-0500
TZOFFSETTO:-0400
TZNAME:EDT
DTSTART:20220313T070000
END:DAYLIGHT
BEGIN:STANDARD
TZOFFSETFROM:-0400
TZOFFSETTO:-0500
TZNAME:EST
DTSTART:20221106T060000
END:STANDARD
BEGIN:DAYLIGHT
TZOFFSETFROM:-0500
TZOFFSETTO:-0400
TZNAME:EDT
DTSTART:20230312T070000
END:DAYLIGHT
BEGIN:STANDARD
TZOFFSETFROM:-0400
TZOFFSETTO:-0500
TZNAME:EST
DTSTART:20231105T060000
END:STANDARD
BEGIN:DAYLIGHT
TZOFFSETFROM:-0500
TZOFFSETTO:-0400
TZNAME:EDT
DTSTART:20240310T070000
END:DAYLIGHT
BEGIN:STANDARD
TZOFFSETFROM:-0400
TZOFFSETTO:-0500
TZNAME:EST
DTSTART:20241103T060000
END:STANDARD
BEGIN:DAYLIGHT
TZOFFSETFROM:-0500
TZOFFSETTO:-0400
TZNAME:EDT
DTSTART:20250309T070000
END:DAYLIGHT
BEGIN:STANDARD
TZOFFSETFROM:-0400
TZOFFSETTO:-0500
TZNAME:EST
DTSTART:20251102T060000
END:STANDARD
END:VTIMEZONE
BEGIN:VEVENT
DTSTART;TZID=America/New_York:20240413T100000
DTEND;TZID=America/New_York:20240413T113000
DTSTAMP:20260423T132330
CREATED:20240220T180252Z
LAST-MODIFIED:20240401T173210Z
UID:5994-1713002400-1713007800@agathao.com
SUMMARY:AgathaO reads at Shaw Memorial Library
DESCRIPTION:Plainfield resident Pleun Bouricius reads from her new book\, Northern Byways and Other Essays From The Road\, a travelogue exploring the landscape across the Northern United States and Canada\, featuring a couple traveling and camping across both countries in their aging Toyota Tacoma. As one commentator put it\, ”You learn a lot about how our world is made. AgathaO not only brings you along in the cab of their heap\, squabbles and all\, but casually pokes holes into your faith in the credibility of the scenery zipping by through the windshield.”  The author will sign copies of this and her other books. All are welcome. \nShare AgathaO:Tweet\n				Email a link to a friend (Opens in new window)\n				Email\n			\n				Share on WhatsApp (Opens in new window)\n				WhatsApp\n			More\n				Share on Reddit (Opens in new window)\n				Reddit\n			PocketShare on Tumblr\n				Share on Telegram (Opens in new window)\n				Telegram\n			\n				Print (Opens in new window)\n				Print\n			Like this:Like Loading...
URL:https://agathao.com/event/shaw-memorial-library/
LOCATION:Shaw Memorial Library\, 312 Main Street\, Plainfield\, MA\, 01070\, United States
ATTACH;FMTTYPE=image/jpeg:https://agathao.com/wp-content/uploads/2024/01/Dec-27-facebook-and-instagram-front-COVER-Northern-Byways-copy.jpg
END:VEVENT
BEGIN:VEVENT
DTSTART;VALUE=DATE:20231104
DTEND;VALUE=DATE:20231106
DTSTAMP:20260423T132330
CREATED:20230925T223345Z
LAST-MODIFIED:20240628T005949Z
UID:5932-1699056000-1699228799@agathao.com
SUMMARY:Craft Westport 2023
DESCRIPTION:Join AgathaO at the Craft Westport holiday show\, one of the best art/high craft shows of the Northeast and a great opportunity to obtain unique handmade holiday gifts. I will be there with prints and framed prints\, books\, gifts\, and a few cards. And 175 other artists. See the lineup. Saturday 10-6\, Sunday 10-5. The admission fee includes parking and gets you in all weekend — kids get in for free. \nShare AgathaO:Tweet\n				Email a link to a friend (Opens in new window)\n				Email\n			\n				Share on WhatsApp (Opens in new window)\n				WhatsApp\n			More\n				Share on Reddit (Opens in new window)\n				Reddit\n			PocketShare on Tumblr\n				Share on Telegram (Opens in new window)\n				Telegram\n			\n				Print (Opens in new window)\n				Print\n			Like this:Like Loading...
URL:https://agathao.com/event/craft-wesport/
LOCATION:Staples High School\, 70 North Avenue\, Westport\, MA\, 06880\, United States
ATTACH;FMTTYPE=image/jpeg:https://agathao.com/wp-content/uploads/2023/05/IMGP4199-3-Potamogeton-nodosus-Long-leaved-Pondweed-copy.jpg
END:VEVENT
BEGIN:VEVENT
DTSTART;VALUE=DATE:20231028
DTEND;VALUE=DATE:20231030
DTSTAMP:20260423T132330
CREATED:20230925T221938Z
LAST-MODIFIED:20230925T221945Z
UID:5929-1698451200-1698623999@agathao.com
SUMMARY:Castleberry Fall Craft Festival
DESCRIPTION:The AgathaO booth will be at the Castleberry Fall Craft Festival with prints\, framed prints\, cards\, books\, and other excellent gifts. Discover the art of nature with AgathaO as she stalks the dewy leaf\, voluptuous blossom\, the slinking of water\, and lovely dead stuff. This festival is an excellent opportunity to buy your locally handmade holiday gifts from a range of artists and craftspeople. Admission is $8.00\, or $6.00 with a coupon. Under 14 free. Saturday from 10am to 5pm and Sunday from 10am to 4pm \nShare AgathaO:Tweet\n				Email a link to a friend (Opens in new window)\n				Email\n			\n				Share on WhatsApp (Opens in new window)\n				WhatsApp\n			More\n				Share on Reddit (Opens in new window)\n				Reddit\n			PocketShare on Tumblr\n				Share on Telegram (Opens in new window)\n				Telegram\n			\n				Print (Opens in new window)\n				Print\n			Like this:Like Loading...
URL:https://agathao.com/event/castleberry-fall-craft-festival/
LOCATION:Shriners Auditorium\, 99 Fordham Road\, Wilmington\, MA\, 01887\, United States
CATEGORIES:Festivals and Shows
ATTACH;FMTTYPE=image/jpeg:https://agathao.com/wp-content/uploads/2020/03/IMGP9612.jpg
END:VEVENT
BEGIN:VEVENT
DTSTART;VALUE=DATE:20231021
DTEND;VALUE=DATE:20231023
DTSTAMP:20260423T132330
CREATED:20230709T203337Z
LAST-MODIFIED:20230709T205649Z
UID:5914-1697846400-1698019199@agathao.com
SUMMARY:Fall Rose Squared Art Show at Brookdale Park
DESCRIPTION:AgathaO is returning to New Jersey  with photography\, cards\, and books for the Fall Rose Squared Art Show at Brookdale Park in Bloomfield/Montclair. Start your holiday shopping at this premier arts and crafts show. Check out the amazing artist lineup here. Back to my photography roots at Montclair State College!  Saturday and Sunday\, 10 am -5 pm. \nShare AgathaO:Tweet\n				Email a link to a friend (Opens in new window)\n				Email\n			\n				Share on WhatsApp (Opens in new window)\n				WhatsApp\n			More\n				Share on Reddit (Opens in new window)\n				Reddit\n			PocketShare on Tumblr\n				Share on Telegram (Opens in new window)\n				Telegram\n			\n				Print (Opens in new window)\n				Print\n			Like this:Like Loading...
URL:https://agathao.com/event/fall-rose-squared-art-show-at-brookdale-park/
LOCATION:Brookdale Park\, 473 Watchung Ave\, Bloomfield\, NJ\, 07003\, United States
CATEGORIES:Festivals and Shows
ATTACH;FMTTYPE=image/jpeg:https://agathao.com/wp-content/uploads/2023/01/IMGP0787-Beach-Rose-Rosa-rugosa-B-W-copy-1.jpg
END:VEVENT
BEGIN:VEVENT
DTSTART;VALUE=DATE:20231014
DTEND;VALUE=DATE:20231016
DTSTAMP:20260423T132330
CREATED:20230709T195734Z
LAST-MODIFIED:20230709T195734Z
UID:5911-1697241600-1697414399@agathao.com
SUMMARY:41st Annual  Roseland Cottage Fine Arts & Crafts Festival
DESCRIPTION:Find the AgathaO Photo tent with photography\, prints\, cards\, books\, and calendars at the Roseland Cottage. This Fine Arts & Crafts Festival is one of the leading juried fine arts and crafts shows in New England. It features 175 local artisans and their work: jewelry\, painting\, printmaking\, woodwork\, pottery\, clothing\, metalwork\, and much more! Enjoy live music and a food court. Free entrance to Historic New England members; ticket price tba (last year it was $5.00).  Saturday and Sunday\, 10 am to 4 pm. \nShare AgathaO:Tweet\n				Email a link to a friend (Opens in new window)\n				Email\n			\n				Share on WhatsApp (Opens in new window)\n				WhatsApp\n			More\n				Share on Reddit (Opens in new window)\n				Reddit\n			PocketShare on Tumblr\n				Share on Telegram (Opens in new window)\n				Telegram\n			\n				Print (Opens in new window)\n				Print\n			Like this:Like Loading...
URL:https://agathao.com/event/41st-annual-roseland-cottage-fine-arts-crafts-festival/
LOCATION:Roseland Cottage\, 556 Route 169\, Woodstock\, CT\, 06281\, United States
CATEGORIES:Festivals and Shows
ATTACH;FMTTYPE=image/jpeg:https://agathao.com/wp-content/uploads/2023/05/P6280181-Nymph-reclining-copy.jpg
END:VEVENT
BEGIN:VEVENT
DTSTART;VALUE=DATE:20231006
DTEND;VALUE=DATE:20231009
DTSTAMP:20260423T132330
CREATED:20230709T194000Z
LAST-MODIFIED:20230709T194728Z
UID:5907-1696550400-1696809599@agathao.com
SUMMARY:Stowe Foliage Arts Festival
DESCRIPTION:I am very excited to brung my photography\, cards\, books\, and calendars to the Stowe Foliage Arts Festival this year. Gorgeous work\, gorgeous surroundings. Worth a trip! You can even get a weekend pass so you can spread the wealth of more than 150 artists and craftspeople over the weekend. Kids 14 & under get in free. Friday – Sun 10 am to 5 pm. \nShare AgathaO:Tweet\n				Email a link to a friend (Opens in new window)\n				Email\n			\n				Share on WhatsApp (Opens in new window)\n				WhatsApp\n			More\n				Share on Reddit (Opens in new window)\n				Reddit\n			PocketShare on Tumblr\n				Share on Telegram (Opens in new window)\n				Telegram\n			\n				Print (Opens in new window)\n				Print\n			Like this:Like Loading...
URL:https://agathao.com/event/stowe-foliage-arts-festival/
LOCATION:Topnotch Field\, 3420 Mountain Road\, Stowe\, MA\, 05672\, United States
CATEGORIES:Festivals and Shows
ATTACH;FMTTYPE=image/jpeg:https://agathao.com/wp-content/uploads/2019/11/IMGP8326.jpg
END:VEVENT
BEGIN:VEVENT
DTSTART;VALUE=DATE:20230930
DTEND;VALUE=DATE:20231002
DTSTAMP:20260423T132330
CREATED:20230708T201129Z
LAST-MODIFIED:20230922T020906Z
UID:5903-1696032000-1696204799@agathao.com
SUMMARY:Hilltown Open Studio Tour
DESCRIPTION:Find the art of nature in Michael Melle’s magical garden. AgathaO will be part of the Hilltown Arts Alliance’s Hilltown Open Studio Tour. Experience some of New England’s best fall colors on ancient back roads\, and visit artists who have made their homes and lives among the beauty of the hilltowns of Hampshire County. Find me at Mike Melle’s garden and Plainfield Figure Factory. Number two on the map\, 53 Old South Street\, Plainfield\, MA. 11-5 both days. \nShare AgathaO:Tweet\n				Email a link to a friend (Opens in new window)\n				Email\n			\n				Share on WhatsApp (Opens in new window)\n				WhatsApp\n			More\n				Share on Reddit (Opens in new window)\n				Reddit\n			PocketShare on Tumblr\n				Share on Telegram (Opens in new window)\n				Telegram\n			\n				Print (Opens in new window)\n				Print\n			Like this:Like Loading...
URL:https://agathao.com/event/hilltown-open-studio-tour-2/
LOCATION:MA
CATEGORIES:Festivals and Shows
ATTACH;FMTTYPE=image/jpeg:https://agathao.com/wp-content/uploads/2023/07/PB220041-Persistence-November-22-2021.jpeg
END:VEVENT
BEGIN:VEVENT
DTSTART;VALUE=DATE:20230923
DTEND;VALUE=DATE:20230925
DTSTAMP:20260423T132331
CREATED:20230708T200239Z
LAST-MODIFIED:20230709T204430Z
UID:5899-1695427200-1695599999@agathao.com
SUMMARY:Fruitlands 11th Annual Craft Festival
DESCRIPTION:AgathaO Photo will once again be at the Fruitlands Museum for the Eleventh Annual Crafts Festival\, with photography\, books\, cards\, and more. The museum’s picturesque grounds\, overlooking the Nashoba Valley and the New Hampshire mountains\, will come alive with two festival tents featuring 48 juried New England Artisans. The show’s quality of craft\, museum offerings\, and stunning views has made the festival a popular September destination. It’s the perfect event for a fall outing to plan your holiday gifts for family and friends. \nAdmission to the Festival includes entry to Fruitlands Museum galleries\, historic structures\, exhibits\, and trails.  Children 12 and under get in free. \nShare AgathaO:Tweet\n				Email a link to a friend (Opens in new window)\n				Email\n			\n				Share on WhatsApp (Opens in new window)\n				WhatsApp\n			More\n				Share on Reddit (Opens in new window)\n				Reddit\n			PocketShare on Tumblr\n				Share on Telegram (Opens in new window)\n				Telegram\n			\n				Print (Opens in new window)\n				Print\n			Like this:Like Loading...
URL:https://agathao.com/event/fruitlands-11th-annual-craft-festival/
LOCATION:Fruitlands Museum\, 102 Prospect Hill Road\, Harvard\, MA\, 01451\, United States
CATEGORIES:Festivals and Shows
ATTACH;FMTTYPE=image/jpeg:https://agathao.com/wp-content/uploads/2023/05/IMGP8389-Rose-Hip-in-Warrior-Two-Etsy.jpeg
END:VEVENT
BEGIN:VEVENT
DTSTART;VALUE=DATE:20230901
DTEND;VALUE=DATE:20230905
DTSTAMP:20260423T132331
CREATED:20230828T185211Z
LAST-MODIFIED:20230828T185211Z
UID:5923-1693526400-1693871999@agathao.com
SUMMARY:AgathaO Photo at the Blandford Fair\, September 1-4\, 2023
DESCRIPTION:Visit me and AgathaO Photo tent at the Blandford Fair for an excellent country fair PLUS great art\, both in tents and at the art show! Nature as art in prints\, framed prints\, books\, cards\, and more. Fri 4-9\, Sat 9-9\, Sun 9-9\, and Monday 9-5. Entrance fee is $10\, kids free.  Sat/Sun $5 after 5 pm! \nShare AgathaO:Tweet\n				Email a link to a friend (Opens in new window)\n				Email\n			\n				Share on WhatsApp (Opens in new window)\n				WhatsApp\n			More\n				Share on Reddit (Opens in new window)\n				Reddit\n			PocketShare on Tumblr\n				Share on Telegram (Opens in new window)\n				Telegram\n			\n				Print (Opens in new window)\n				Print\n			Like this:Like Loading...
URL:https://agathao.com/event/agathao-photo-at-the-blandford-fair-september-1-4-2023/
LOCATION:Blandford Fairgrounds\, 10 North Street\, Blandford\, MA\, 01008\, United States
CATEGORIES:Festivals and Shows
ATTACH;FMTTYPE=image/jpeg:https://agathao.com/wp-content/uploads/2022/09/AgathaO-New-England-Aster.-jpeg.jpeg
END:VEVENT
BEGIN:VEVENT
DTSTART;VALUE=DATE:20230819
DTEND;VALUE=DATE:20230821
DTSTAMP:20260423T132331
CREATED:20230518T182150Z
LAST-MODIFIED:20230709T205307Z
UID:5885-1692403200-1692575999@agathao.com
SUMMARY:42nd Annual Gloucester Waterfront Festival
DESCRIPTION:The AgathaO tent will be at the 42nd Annual Gloucester Waterfront Festival. Enjoy a day visiting  the historic waterfront\, relaxing on the beach\, and  checking out art! I’ll be there with framed and matted prints\, books\, cards\, and more.  It’s 9-6 on Saturday and 9-5on Sunday. Free admission\, including for pets on a leash. \nShare AgathaO:Tweet\n				Email a link to a friend (Opens in new window)\n				Email\n			\n				Share on WhatsApp (Opens in new window)\n				WhatsApp\n			More\n				Share on Reddit (Opens in new window)\n				Reddit\n			PocketShare on Tumblr\n				Share on Telegram (Opens in new window)\n				Telegram\n			\n				Print (Opens in new window)\n				Print\n			Like this:Like Loading...
URL:https://agathao.com/event/42nd-annual-gloucester-waterfront-festival/
LOCATION:Stage Fort Park\, 24 Hough Ave\, Gloucester\, MA\, 01930\, United States
ATTACH;FMTTYPE=image/jpeg:https://agathao.com/wp-content/uploads/2023/05/AgathaO-WaterGlass.jpeg
END:VEVENT
BEGIN:VEVENT
DTSTART;VALUE=DATE:20230811
DTEND;VALUE=DATE:20230814
DTSTAMP:20260423T132331
CREATED:20230518T173556Z
LAST-MODIFIED:20230518T173556Z
UID:5881-1691712000-1691971199@agathao.com
SUMMARY:Bar Harbor Fine Arts Festival
DESCRIPTION:August is Maine vacation time! The AgathaO tent will be at the 2023 Bar Harbor Fine Arts Festival this August. Friday August 11 noon-8; Saturday August 12\, 9-8\, and Sunday August 13\, 10-5. Fine arts framed and matted prints\, cards\, books\, and more. \nShare AgathaO:Tweet\n				Email a link to a friend (Opens in new window)\n				Email\n			\n				Share on WhatsApp (Opens in new window)\n				WhatsApp\n			More\n				Share on Reddit (Opens in new window)\n				Reddit\n			PocketShare on Tumblr\n				Share on Telegram (Opens in new window)\n				Telegram\n			\n				Print (Opens in new window)\n				Print\n			Like this:Like Loading...
URL:https://agathao.com/event/bar-harbor-fine-arts-festival-2/
LOCATION:Bar Harbor Inn\, 1 New port Drive\, Bar Harbor\, Maine\, 04609
CATEGORIES:Festivals and Shows
ATTACH;FMTTYPE=image/jpeg:https://agathao.com/wp-content/uploads/2023/05/IMGP1687Take-me-to-the-River-copy-1.jpg
END:VEVENT
BEGIN:VEVENT
DTSTART;VALUE=DATE:20230701
DTEND;VALUE=DATE:20230801
DTSTAMP:20260423T132331
CREATED:20230518T165413Z
LAST-MODIFIED:20230518T165413Z
UID:5878-1688169600-1690847999@agathao.com
SUMMARY:Exhibit at River Valley Co-op Café
DESCRIPTION:Portraits in the Carbon Cycle will be up at the Cafe at the River Vally Co-op in Northampton from July 1 to July 31. Opening  date tbd. Get yourself a coffee and check out the work! \n  \nShare AgathaO:Tweet\n				Email a link to a friend (Opens in new window)\n				Email\n			\n				Share on WhatsApp (Opens in new window)\n				WhatsApp\n			More\n				Share on Reddit (Opens in new window)\n				Reddit\n			PocketShare on Tumblr\n				Share on Telegram (Opens in new window)\n				Telegram\n			\n				Print (Opens in new window)\n				Print\n			Like this:Like Loading...
URL:https://agathao.com/event/exhibit-at-river-valley-co-op-cafe/
LOCATION:Co-op Cafe at River Valley Co-op\, 330 N. King Street\, Northampton\, MA\, 01060
CATEGORIES:Exhibits
ATTACH;FMTTYPE=image/jpeg:https://agathao.com/wp-content/uploads/2023/05/Madonna-IMGP6162.jpg
END:VEVENT
BEGIN:VEVENT
DTSTART;VALUE=DATE:20230624
DTEND;VALUE=DATE:20230626
DTSTAMP:20260423T132331
CREATED:20230505T173647Z
LAST-MODIFIED:20230505T173647Z
UID:5737-1687564800-1687737599@agathao.com
SUMMARY:Rhinebeck Crafts Festival
DESCRIPTION:Join me for some fabulous arts and crafts! The AgathaO tent will be at the RHINEBECK CRAFTS FESTIVAL at the Dutchess County Fairgrounds\, June 24 and 25\, 2023. Discover the art of nature in cards\, prints\, books\, and vintage-framed photography. Check out the amazing list of other artists. Admission is $10 (less for seniors\, kids\, and groups). \nShare AgathaO:Tweet\n				Email a link to a friend (Opens in new window)\n				Email\n			\n				Share on WhatsApp (Opens in new window)\n				WhatsApp\n			More\n				Share on Reddit (Opens in new window)\n				Reddit\n			PocketShare on Tumblr\n				Share on Telegram (Opens in new window)\n				Telegram\n			\n				Print (Opens in new window)\n				Print\n			Like this:Like Loading...
URL:https://agathao.com/event/rhinebeck-crafts-festival/
LOCATION:Dutchess County Fairgrounds\, 6636 Spring Brook Ave\, Rhinebeck\, NY\, 12572
ATTACH;FMTTYPE=image/jpeg:https://agathao.com/wp-content/uploads/2023/05/AgathaO-Booth-copy.jpg
END:VEVENT
BEGIN:VEVENT
DTSTART;VALUE=DATE:20230617
DTEND;VALUE=DATE:20230619
DTSTAMP:20260423T132331
CREATED:20230505T170757Z
LAST-MODIFIED:20230505T170757Z
UID:5733-1686960000-1687132799@agathao.com
SUMMARY:South Shore Arts Festival
DESCRIPTION:Discover the art in nature at the AgathaO tent at the South Shore Arts festival on Cohasset Town Common this Father’s Day weekend. New work\, cards\, matted and framed prints\, books\, and more.  Friday June 16\, 1-7 pm; Saturday June 18\, 10 am -7 pm; and Sunday June 18\, 12 pm – 5 pm. The festival\, which is sponsored by the South Shore Art Center\, is free and open to all. \nShare AgathaO:Tweet\n				Email a link to a friend (Opens in new window)\n				Email\n			\n				Share on WhatsApp (Opens in new window)\n				WhatsApp\n			More\n				Share on Reddit (Opens in new window)\n				Reddit\n			PocketShare on Tumblr\n				Share on Telegram (Opens in new window)\n				Telegram\n			\n				Print (Opens in new window)\n				Print\n			Like this:Like Loading...
URL:https://agathao.com/event/south-shore-arts-festival/
LOCATION:Cohasset Town Common\, Highland Ave\, Cohasset\, MA\, 02025
ATTACH;FMTTYPE=image/jpeg:https://agathao.com/wp-content/uploads/2023/05/IMGP8389-Rose-Hip-in-Warrior-Two.jpeg
END:VEVENT
BEGIN:VEVENT
DTSTART;VALUE=DATE:20230527
DTEND;VALUE=DATE:20230530
DTSTAMP:20260423T132331
CREATED:20230505T162641Z
LAST-MODIFIED:20230505T162641Z
UID:5729-1685145600-1685404799@agathao.com
SUMMARY:Woodstock-New Paltz Art & Crafts Fair
DESCRIPTION:AgathaO does New York State! Visit the AgathaO tent this Memorial Day Weekend at the amazing Woodstock-New Paltz Art & Crafts Fair at the Ulster County Fairgrounds! I’ll be there with framed and matted prints\, books\, cards\, and more. This is a huge fair with more than 200 juried artists and makers. It’s 10-5 on Saturday and Sunday and 10-4 on Monday. Admission to the fair is $12 for adults ($11 if you buy your ticket online by 5/24. Kids under 12 get in free. Check out the exhibitor list. \nShare AgathaO:Tweet\n				Email a link to a friend (Opens in new window)\n				Email\n			\n				Share on WhatsApp (Opens in new window)\n				WhatsApp\n			More\n				Share on Reddit (Opens in new window)\n				Reddit\n			PocketShare on Tumblr\n				Share on Telegram (Opens in new window)\n				Telegram\n			\n				Print (Opens in new window)\n				Print\n			Like this:Like Loading...
URL:https://agathao.com/event/woodstock-new-paltz-art-crafts-fair/
LOCATION:Ulster County Fairgrounds\, 249 Libertyville Rd\, New Paltz\, NY\, 12561
ATTACH;FMTTYPE=image/jpeg:https://agathao.com/wp-content/uploads/2023/05/ranunculus-copy-this-is-the-one.jpg
END:VEVENT
BEGIN:VEVENT
DTSTART;VALUE=DATE:20230421
DTEND;VALUE=DATE:20230424
DTSTAMP:20260423T132331
CREATED:20230107T163502Z
LAST-MODIFIED:20230107T182317Z
UID:5482-1682035200-1682294399@agathao.com
SUMMARY:New England Folk Festival
DESCRIPTION:The AgathaO booth will be in the Crafts Room at the New England Folk Festival this year\, on April 21\,22\, and 23. I am looking forward to hearing a lot of good music while I’m sharing my prints \, books\, and cards!Friday: 7-9:30pm\, Saturday: 9:15-9:15pm\, and Sunday: 9:15-5:30pm \nShare AgathaO:Tweet\n				Email a link to a friend (Opens in new window)\n				Email\n			\n				Share on WhatsApp (Opens in new window)\n				WhatsApp\n			More\n				Share on Reddit (Opens in new window)\n				Reddit\n			PocketShare on Tumblr\n				Share on Telegram (Opens in new window)\n				Telegram\n			\n				Print (Opens in new window)\n				Print\n			Like this:Like Loading...
URL:https://agathao.com/event/new-england-folk-festival/
LOCATION:Best Western Royal Plaza Hotel and Trade Center\, 181 Royal Plaza Drive West\, Marlborough\, MA\, 01752
ATTACH;FMTTYPE=image/jpeg:https://agathao.com/wp-content/uploads/2023/01/IMGP1687Take-me-to-the-River-copy.jpg
END:VEVENT
BEGIN:VEVENT
DTSTART;VALUE=DATE:20221008
DTEND;VALUE=DATE:20221010
DTSTAMP:20260423T132331
CREATED:20230107T223839Z
LAST-MODIFIED:20230107T224158Z
UID:5496-1665187200-1665359999@agathao.com
SUMMARY:Ashfield Fall Festival
DESCRIPTION:AgathaO will be in the Town Common tent at the Ashfield Fall Festival — with prints\, cards\, my new book Born Wet\, and more. And when you’re done shopping at my booth and checking out my new work\, there’s tons of other stuff to see and do.\nThe 2022 Ashfield Fall Festival (Ashfield\, Massachusetts) will take place on October 8-9\, from 10 a.m. to 5 p.m. on both days – rain or shine. The annual festival offers craft and art exhibits by more than 50 exhibitors\, locally-grown and prepared foods\, live music and dance\, the annual Pumpkin games and children’s activities\, and book and tag sales. Admission is free. Parking is available in lots east of the town center on Route 116 \nShare AgathaO:Tweet\n				Email a link to a friend (Opens in new window)\n				Email\n			\n				Share on WhatsApp (Opens in new window)\n				WhatsApp\n			More\n				Share on Reddit (Opens in new window)\n				Reddit\n			PocketShare on Tumblr\n				Share on Telegram (Opens in new window)\n				Telegram\n			\n				Print (Opens in new window)\n				Print\n			Like this:Like Loading...
URL:https://agathao.com/event/ashfield-fall-festival/
LOCATION:Ashfield Town Common\, Main Street\, Ashfield\, MA\, 013390\, United States
CATEGORIES:Festivals and Shows
ATTACH;FMTTYPE=image/jpeg:https://agathao.com/wp-content/uploads/2023/01/P9031775-1.jpg
END:VEVENT
BEGIN:VEVENT
DTSTART;VALUE=DATE:20221001
DTEND;VALUE=DATE:20221003
DTSTAMP:20260423T132331
CREATED:20230107T222702Z
LAST-MODIFIED:20230107T223944Z
UID:5492-1664582400-1664755199@agathao.com
SUMMARY:Hilltown Open Studio Tour
DESCRIPTION:AgathaO’s studio will be open for the Hilltown Open Studio Tour\, 11-5 on both October 1 and 2 \, along with three other Plainfield artists and twenty-two additional hilltown artists!\nMeander timeless backroads and get a glimpse into the creative process and physical work of visionary artists who live amongst mountain views\, streams and Western Mass rural autumn splendor. Find the tour at: https://www.facebook.com/events/1270685296809148/1282313415646336/ \nShare AgathaO:Tweet\n				Email a link to a friend (Opens in new window)\n				Email\n			\n				Share on WhatsApp (Opens in new window)\n				WhatsApp\n			More\n				Share on Reddit (Opens in new window)\n				Reddit\n			PocketShare on Tumblr\n				Share on Telegram (Opens in new window)\n				Telegram\n			\n				Print (Opens in new window)\n				Print\n			Like this:Like Loading...
URL:https://agathao.com/event/hilltown-open-studio-tour/
LOCATION:MA
CATEGORIES:Festivals and Shows
ATTACH;FMTTYPE=image/jpeg:https://agathao.com/wp-content/uploads/2023/01/HOST-ad-2022-scaled.jpg
END:VEVENT
BEGIN:VEVENT
DTSTART;VALUE=DATE:20220924
DTEND;VALUE=DATE:20220926
DTSTAMP:20260423T132331
CREATED:20230107T182053Z
LAST-MODIFIED:20230107T222917Z
UID:5489-1663977600-1664150399@agathao.com
SUMMARY:Fruitlands 10th Annual Craft Show
DESCRIPTION:The AgathaO Photo tent will be at the Fruitlands 10th Annual Craft Show on September 24 and 25\,\nwith prints\, cards\, books\, and more\, including my new book\, Born Wet!\nThe show’s quality of handmade craft\, museum offerings\, and stunning views has made the festival a popular September destination. It is the perfect event for a fall outing to plan your holiday gifts for family and friends.\nAdmission to the Festival includes entry to Fruitlands Museum galleries\, historic structures\, exhibits\, and trails. Transportation via golf cart is available from the parking field to the festival enclosures if needed.\nTix available online and children under 12 get in free.\nShare AgathaO:Tweet\n				Email a link to a friend (Opens in new window)\n				Email\n			\n				Share on WhatsApp (Opens in new window)\n				WhatsApp\n			More\n				Share on Reddit (Opens in new window)\n				Reddit\n			PocketShare on Tumblr\n				Share on Telegram (Opens in new window)\n				Telegram\n			\n				Print (Opens in new window)\n				Print\n			Like this:Like Loading...
URL:https://agathao.com/event/fruitlands-10th-annual-craft-show/
LOCATION:MA
CATEGORIES:Festivals and Shows
ATTACH;FMTTYPE=image/jpeg:https://agathao.com/wp-content/uploads/2023/01/IMGP4199.jpeg
END:VEVENT
BEGIN:VEVENT
DTSTART;VALUE=DATE:20220910
DTEND;VALUE=DATE:20220913
DTSTAMP:20260423T132331
CREATED:20230107T230039Z
LAST-MODIFIED:20230107T231241Z
UID:5503-1662768000-1663027199@agathao.com
SUMMARY:Bar Harbor Fine Arts Festival
DESCRIPTION:The AgathaO tent will be at this premier arts show\, held on the beautiful downtown waterfront in Bar Harbor\, on the grounds of the Bar Harbor Inn. Bringing cards\, matted and framed prints\, books\, and more. Looking forward to it! \nShare AgathaO:Tweet\n				Email a link to a friend (Opens in new window)\n				Email\n			\n				Share on WhatsApp (Opens in new window)\n				WhatsApp\n			More\n				Share on Reddit (Opens in new window)\n				Reddit\n			PocketShare on Tumblr\n				Share on Telegram (Opens in new window)\n				Telegram\n			\n				Print (Opens in new window)\n				Print\n			Like this:Like Loading...
URL:https://agathao.com/event/bar-harbor-fine-arts-festival/
LOCATION:Bar Harbor Inn\, 1 New port Drive\, Bar Harbor\, Maine\, 04609
CATEGORIES:Festivals and Shows
ATTACH;FMTTYPE=image/jpeg:https://agathao.com/wp-content/uploads/2023/01/IMG_7714-copy.jpeg
END:VEVENT
END:VCALENDAR