BEGIN:VCALENDAR
VERSION:2.0
PRODID:-// AgathaO Photo - ECPv6.15.15//NONSGML v1.0//EN
CALSCALE:GREGORIAN
METHOD:PUBLISH
X-ORIGINAL-URL:https://agathao.com
X-WR-CALDESC:Events for  AgathaO Photo
REFRESH-INTERVAL;VALUE=DURATION:PT1H
X-Robots-Tag:noindex
X-PUBLISHED-TTL:PT1H
BEGIN:VTIMEZONE
TZID:America/New_York
BEGIN:DAYLIGHT
TZOFFSETFROM:-0500
TZOFFSETTO:-0400
TZNAME:EDT
DTSTART:20220313T070000
END:DAYLIGHT
BEGIN:STANDARD
TZOFFSETFROM:-0400
TZOFFSETTO:-0500
TZNAME:EST
DTSTART:20221106T060000
END:STANDARD
BEGIN:DAYLIGHT
TZOFFSETFROM:-0500
TZOFFSETTO:-0400
TZNAME:EDT
DTSTART:20230312T070000
END:DAYLIGHT
BEGIN:STANDARD
TZOFFSETFROM:-0400
TZOFFSETTO:-0500
TZNAME:EST
DTSTART:20231105T060000
END:STANDARD
BEGIN:DAYLIGHT
TZOFFSETFROM:-0500
TZOFFSETTO:-0400
TZNAME:EDT
DTSTART:20240310T070000
END:DAYLIGHT
BEGIN:STANDARD
TZOFFSETFROM:-0400
TZOFFSETTO:-0500
TZNAME:EST
DTSTART:20241103T060000
END:STANDARD
END:VTIMEZONE
BEGIN:VEVENT
DTSTART;VALUE=DATE:20230701
DTEND;VALUE=DATE:20230801
DTSTAMP:20260423T202810
CREATED:20230518T165413Z
LAST-MODIFIED:20230518T165413Z
UID:5878-1688169600-1690847999@agathao.com
SUMMARY:Exhibit at River Valley Co-op Café
DESCRIPTION:Portraits in the Carbon Cycle will be up at the Cafe at the River Vally Co-op in Northampton from July 1 to July 31. Opening  date tbd. Get yourself a coffee and check out the work! \n  \nShare AgathaO:Tweet\n				Email a link to a friend (Opens in new window)\n				Email\n			\n				Share on WhatsApp (Opens in new window)\n				WhatsApp\n			More\n				Share on Reddit (Opens in new window)\n				Reddit\n			PocketShare on Tumblr\n				Share on Telegram (Opens in new window)\n				Telegram\n			\n				Print (Opens in new window)\n				Print\n			Like this:Like Loading...
URL:https://agathao.com/event/exhibit-at-river-valley-co-op-cafe/
LOCATION:Co-op Cafe at River Valley Co-op\, 330 N. King Street\, Northampton\, MA\, 01060
CATEGORIES:Exhibits
ATTACH;FMTTYPE=image/jpeg:https://agathao.com/wp-content/uploads/2023/05/Madonna-IMGP6162.jpg
END:VEVENT
END:VCALENDAR